Workbook

Sheet Arkusz1
A1: Załącznik nr 1 do protokołu z przeprowadzanego zapytania cenowego na: „Dostawę pomp zatapialnych i części eksploatacyjnych do pomp i mieszadeł”
A2: L.p | B2: Nazwa | C2: symbol / nr seryjny | D2: 1. MEPROZET sp z o.o. | E2: 2. Jerzy Kniżewski Usługi Wielobranżowe | F2: 3. MUEHSAM Rozwiązania dla przemysłu Sp. J. / o. Rzeszów | G2: 4. HYDROSOLAR sp z o.o. | H2: 5. Sinar Sp. Z o.o. | I2: 6. MOD-GUSS | J2: 7. Inoxtrading Grzegorz Litwiński | K2: najkorzystniejsza jednostkowa oferta cenowa | L2: Dostawca | M2: ilość sztuk | N2: wartość
A3: 1 | B3: Autozłącze Grundfos DN 40 - część zamienna | C3: 96076063 | F3: 432.6 | G3: 360.68 | H3: 364.14 | J3: x | K3: =MIN(D3:I3) -> 360.68 | L3: HYDROSOLAR sp z o.o. | M3: 9 | N3: =IFERROR(M3*K3,"") -> 3246.12
A4: 2 | B4: Wirnik do pompy Grundfos SEG 40.31 - część zamienna | C4: 96076119 | F4: 1272 | G4: 1411.4 | H4: 1424.94 | I4: 620 | J4: x | K4: =MIN(D4:I4) -> 620 | L4: MOD-GUSS | M4: 8 | N4: =IFERROR(M4*K4,"") -> 4960
A5: 3 | B5: Zestaw tnący standard do pompy SEG 40.xx - część zamienna | C5: 96076121 | F5: 390 | G5: 434.1 | H5: 437.75 | J5: x | K5: =MIN(D5:I5) -> 390 | L5: MUEHSAM | M5: 12 | N5: =IFERROR(M5*K5,"") -> 4680
A6: 4 | B6: Pompa Zatapialna Meprozet NURT 50 PZM-R50 3,0/R-2/F-C | D6: 4573 | E6: 5640 | J6: x | K6: =MIN(D6:I6) -> 4573 | L6: MEPROZET sp z o.o. | M6: 6 | N6: =IFERROR(M6*K6,"") -> 27438
A7: 5 | B7: Pompa KSB F 100-210/034-210 lub inna o równoważnych parametrach | C7: 29140181 | E7: 6640 | G7: 7254.03 | H7: 5255.85 | J7: x | K7: =MIN(D7:I7) -> 5255.85 | L7: Sinar Sp. Z o.o. | M7: 1 | N7: =IFERROR(M7*K7,"") -> 5255.85
A8: 6 | B8: Pompa Amarex N F65-170/042 ULG-146 lub inna o równoważnych parametrach, | H8: 4903.95 | J8: x | K8: =MIN(D8:I8) -> 4903.95 | L8: Sinar Sp. Z o.o. | M8: 1 | N8: =IFERROR(M8*K8,"") -> 4903.95
A9: 7 | B9: Zaczep na prowadnicę dwururową + uszczelka do pompy KSB F 100-210/034-210 - część zamienna | H9: 999.77 | J9: x | K9: =MIN(D9:I9) -> 999.77 | L9: Sinar Sp. Z o.o. | M9: 1 | N9: =IFERROR(M9*K9,"") -> 999.77
A10: 8 | B10: Pompa Grundfos SLV.65.65.22.50D lub inna o równoważnych parametrach, | E10: 5000 | F10: 5094 | G10: 4826.48 | H10: 4872.11 | J10: x | K10: =MIN(D10:I10) -> 4826.48 | L10: HYDROSOLAR sp z o.o. | M10: 1 | N10: =IFERROR(M10*K10,"") -> 4826.48
A11: 9 | B11: wirnik do pompy Amarex F50-190 - część zamienna | E11: 440 | J11: x | K11: =MIN(D11:I11) -> 440 | L11: Jerzy Kniżewski | M11: 2 | N11: =IFERROR(M11*K11,"") -> 880
A12: 10 | B12: wirnik do pompy Amarex S50-160 - część zamienna | E12: 400 | I12: 500 | J12: x | K12: 500 | L12: MOD-GUSS | M12: 4 | N12: =IFERROR(M12*K12,"") -> 2000
A13: 11 | B13: zestaw tnący do pompy Amarex S50-160 - część zamienna | E13: 800 | I13: 560 | J13: x | K13: =MIN(D13:I13) -> 560 | M13: 8 | N13: =IFERROR(M13*K13,"") -> 4480
A14: 12 | B14: Śmigło do mieszadła KSB Amaprop V 39-2200/34 URG (nr ser. 9972366664/000400) - część zamienna | C14: 23-9 | H14: 7834.41 | J14: x | K14: =MIN(D14:I14) -> 7834.41 | L14: Sinar Sp. Z o.o. | M14: 1 | N14: =IFERROR(M14*K14,"") -> 7834.41
A15: 13 | B15: Przepust przewodu do mieszadła KSB Amaprop V 39-2200/34 URG (nr ser. 9972366664/000400) - część zamienna | C15: 834 | H15: 745.28 | J15: x | K15: =MIN(D15:I15) -> 745.28 | L15: Sinar Sp. Z o.o. | M15: 1 | N15: =IFERROR(M15*K15,"") -> 745.28
A16: 14 | B16: Uszczelnienie mechaniczne po stronie przekładni do mieszadła KSB Amaprop V 39-2200/34 URG (nr ser. 9972366664/000400) - część zamienna | C16: 433.01 | H16: 341.87 | J16: x | K16: =MIN(D16:I16) -> 341.87 | L16: Sinar Sp. Z o.o. | M16: 2 | N16: =IFERROR(M16*K16,"") -> 683.74
A17: 15 | B17: Uszczelnienie mechaniczne po stronie śmigła do mieszadła KSB Amaprop V 39-2200/34 URG (nr ser. 9972366664/000400) - część zamienna | C17: 433.02 | H17: 360.61 | J17: x | K17: =MIN(D17:I17) -> 360.61 | L17: Sinar Sp. Z o.o. | M17: 2 | N17: =IFERROR(M17*K17,"") -> 721.22
A18: 16 | B18: Łożysko toczne po stronie przekładni do mieszadła KSB Amaprop V 39-2200/34 URG (nr ser. 9972366664/000400) - część zamienna | C18: 321.01 | H18: 238.21 | J18: x | K18: =MIN(D18:I18) -> 238.21 | L18: Sinar Sp. Z o.o. | M18: 1 | N18: =IFERROR(M18*K18,"") -> 238.21
A19: 17 | B19: Łożysko toczne po stronie napędu do mieszadła KSB Amaprop V 39-2200/34 URG (nr ser. 9972366664/000400) - część zamienna | C19: 321.02 | H19: 68.98 | J19: x | K19: =MIN(D19:I19) -> 68.98 | L19: Sinar Sp. Z o.o. | M19: 1 | N19: =IFERROR(M19*K19,"") -> 68.98
A20: 18 | B20: Promieniowe łożysko wałeczkowe do mieszadła KSB Amaprop V 39-2200/34 URG (nr ser. 9972366664/000400) - część zamienna | C20: 322 | J20: x | K20: =MIN(D20:I20) -> 0 | L20: brak ofert | M20: 1 | N20: =IFERROR(M20*K20,"") -> 0
A21: 19 | B21: Zestaw uszczelek do mieszadła KSB Amaprop V 39-2200/34 URG (nr ser. 9972366664/000400) - część zamienna | H21: 427.21 | J21: x | K21: =MIN(D21:I21) -> 427.21 | L21: Sinar Sp. Z o.o. | M21: 2 | N21: =IFERROR(M21*K21,"") -> 854.42
A22: 20 | B22: Uszczelnienie mechaniczne po stronie napędu do mieszadła Amamix C 3225/06 UDG (nr ser. 9972366664/000300) - część zamienna | C22: 433.01 | H22: 271.53 | J22: x | K22: =MIN(D22:I22) -> 271.53 | L22: Sinar Sp. Z o.o. | M22: 1 | N22: =IFERROR(M22*K22,"") -> 271.53
A23: 21 | B23: Uszczelnienie mechaniczne po stronie śmigła do mieszadła Amamix C 3225/06 UDG (nr ser. 9972366664/000300) - część zamienna | C23: 433.02 | H23: 271.53 | J23: x | K23: =MIN(D23:I23) -> 271.53 | L23: Sinar Sp. Z o.o. | M23: 1 | N23: =IFERROR(M23*K23,"") -> 271.53
A24: 22 | B24: Łożysko toczne po stronie napędu do mieszadła Amamix C 3225/06 UDG (nr ser. 9972366664/000300) - część zamienna | C24: 321.01 | H24: 115.18 | J24: x | K24: =MIN(D24:I24) -> 115.18 | L24: Sinar Sp. Z o.o. | M24: 1 | N24: =IFERROR(M24*K24,"") -> 115.18
A25: 23 | B25: Łożysko toczne po stronie napędu do mieszadła Amamix C 3225/06 UDG (nr ser. 9972366664/000300) - część zamienna | C25: 321.02 | H25: 68.98 | J25: x | K25: =MIN(D25:I25) -> 68.98 | L25: Sinar Sp. Z o.o. | M25: 1 | N25: =IFERROR(M25*K25,"") -> 68.98
A26: 24 | B26: Zestaw uszczelek do mieszadła Amamix C 3225/06 UDG (nr ser. 9972366664/000300) - część zamienna | H26: 406.51 | J26: x | K26: =MIN(D26:I26) -> 406.51 | L26: Sinar Sp. Z o.o. | M26: 2 | N26: =IFERROR(M26*K26,"") -> 813.02
A27: 25 | B27: Przejściówka do mieszadła Amamix C 3225/06 UDG (nr ser. 9972366664/000300) - część zamienna | C27: 721 | H27: 445.66 | J27: x | K27: =MIN(D27:I27) -> 445.66 | L27: Sinar Sp. Z o.o. | M27: 1 | N27: =IFERROR(M27*K27,"") -> 445.66
B28: Razem | D28: =N6 -> 27438 | E28: =N11 -> 880 | F28: =N5 -> 4680 | G28: =N3+N10 -> 8072.6 | H28: =SUM(N7:N9)+SUM(N14:N27) -> 24291.73 | I28: =N4+N12+N13 -> 11440 | N28: =SUM(N3:N27) -> 76802.33
B30: kurs Euro | C30: 4.1749 | N30: =N28/C30 -> 18396.208

Sheet Arkusz3
A1: L.p | B1: Nazwa | C1: symbol / nr seryjny | D1: razem szt.
A2: 1 | B2: =Arkusz1!B3 -> Autozłącze Grundfos DN 40 - część zamienna | C2: =Arkusz1!C3 -> 96076063 | D2: =Arkusz1!J3 -> x
A3: 2 | B3: =Arkusz1!B4 -> Wirnik do pompy Grundfos SEG 40.31 - część zamienna | C3: =Arkusz1!C4 -> 96076119 | D3: =Arkusz1!J4 -> x
A4: 3 | B4: =Arkusz1!B5 -> Zestaw tnący standard do pompy SEG 40.xx - część zamienna | C4: =Arkusz1!C5 -> 96076121 | D4: =Arkusz1!J5 -> x
A5: 4 | B5: =Arkusz1!B6 -> Pompa Zatapialna Meprozet NURT 50 PZM-R50 3,0/R-2/F-C | D5: =Arkusz1!J6 -> x
A6: 5 | B6: =Arkusz1!B7 -> Pompa KSB F 100-210/034-210 lub inna o równoważnych parametrach | C6: =Arkusz1!C7 -> 29140181 | D6: =Arkusz1!J7 -> x
A7: 6 | B7: =Arkusz1!B8 -> Pompa Amarex N F65-170/042 ULG-146 lub inna o równoważnych parametrach, | D7: =Arkusz1!J8 -> x
A8: 7 | B8: =Arkusz1!B9 -> Zaczep na prowadnicę dwururową + uszczelka do pompy KSB F 100-210/034-210 - część zamienna | D8: =Arkusz1!J9 -> x
A9: 8 | B9: =Arkusz1!B10 -> Pompa Grundfos SLV.65.65.22.50D lub inna o równoważnych parametrach, | D9: =Arkusz1!J10 -> x
A10: 9 | B10: =Arkusz1!B11 -> wirnik do pompy Amarex F50-190 - część zamienna | D10: =Arkusz1!J11 -> x
A11: 10 | B11: =Arkusz1!B12 -> wirnik do pompy Amarex S50-160 - część zamienna | D11: =Arkusz1!J12 -> x
A12: 11 | B12: =Arkusz1!B13 -> zestaw tnący do pompy Amarex S50-160 - część zamienna | D12: =Arkusz1!J13 -> x
A13: 12 | B13: =Arkusz1!B14 -> Śmigło do mieszadła KSB Amaprop V 39-2200/34 URG (nr ser. 9972366664/000400) - część zamienna | C13: =Arkusz1!C14 -> 23-9 | D13: =Arkusz1!J14 -> x
A14: 13 | B14: =Arkusz1!B15 -> Przepust przewodu do mieszadła KSB Amaprop V 39-2200/34 URG (nr ser. 9972366664/000400) - część zamienna | C14: =Arkusz1!C15 -> 834 | D14: =Arkusz1!J15 -> x
A15: 14 | B15: =Arkusz1!B16 -> Uszczelnienie mechaniczne po stronie przekładni do mieszadła KSB Amaprop V 39-2200/34 URG (nr ser. 9972366664/000400) - część zamienna | C15: =Arkusz1!C16 -> 433.01 | D15: =Arkusz1!J16 -> x
A16: 15 | B16: =Arkusz1!B17 -> Uszczelnienie mechaniczne po stronie śmigła do mieszadła KSB Amaprop V 39-2200/34 URG (nr ser. 9972366664/000400) - część zamienna | C16: =Arkusz1!C17 -> 433.02 | D16: =Arkusz1!J17 -> x
A17: 16 | B17: =Arkusz1!B18 -> Łożysko toczne po stronie przekładni do mieszadła KSB Amaprop V 39-2200/34 URG (nr ser. 9972366664/000400) - część zamienna | C17: =Arkusz1!C18 -> 321.01 | D17: =Arkusz1!J18 -> x
A18: 17 | B18: =Arkusz1!B19 -> Łożysko toczne po stronie napędu do mieszadła KSB Amaprop V 39-2200/34 URG (nr ser. 9972366664/000400) - część zamienna | C18: =Arkusz1!C19 -> 321.02 | D18: =Arkusz1!J19 -> x
A19: 18 | B19: =Arkusz1!B20 -> Promieniowe łożysko wałeczkowe do mieszadła KSB Amaprop V 39-2200/34 URG (nr ser. 9972366664/000400) - część zamienna | C19: =Arkusz1!C20 -> 322 | D19: =Arkusz1!J20 -> x
A20: 19 | B20: =Arkusz1!B21 -> Zestaw uszczelek do mieszadła KSB Amaprop V 39-2200/34 URG (nr ser. 9972366664/000400) - część zamienna | D20: =Arkusz1!J21 -> x
A21: 20 | B21: =Arkusz1!B22 -> Uszczelnienie mechaniczne po stronie napędu do mieszadła Amamix C 3225/06 UDG (nr ser. 9972366664/000300) - część zamienna | C21: =Arkusz1!C22 -> 433.01 | D21: =Arkusz1!J22 -> x
A22: 21 | B22: =Arkusz1!B23 -> Uszczelnienie mechaniczne po stronie śmigła do mieszadła Amamix C 3225/06 UDG (nr ser. 9972366664/000300) - część zamienna | C22: =Arkusz1!C23 -> 433.02 | D22: =Arkusz1!J23 -> x
A23: 22 | B23: =Arkusz1!B24 -> Łożysko toczne po stronie napędu do mieszadła Amamix C 3225/06 UDG (nr ser. 9972366664/000300) - część zamienna | C23: =Arkusz1!C24 -> 321.01 | D23: =Arkusz1!J24 -> x
A24: 23 | B24: =Arkusz1!B25 -> Łożysko toczne po stronie napędu do mieszadła Amamix C 3225/06 UDG (nr ser. 9972366664/000300) - część zamienna | C24: =Arkusz1!C25 -> 321.02 | D24: =Arkusz1!J25 -> x
A25: 24 | B25: =Arkusz1!B26 -> Zestaw uszczelek do mieszadła Amamix C 3225/06 UDG (nr ser. 9972366664/000300) - część zamienna | D25: =Arkusz1!J26 -> x
A26: 25 | B26: =Arkusz1!B27 -> Przejściówka do mieszadła Amamix C 3225/06 UDG (nr ser. 9972366664/000300) - część zamienna | C26: =Arkusz1!C27 -> 721 | D26: =Arkusz1!J27 -> x
